BEGIN:VCALENDAR
VERSION:2.0
PRODID:spatie/icalendar-generator
NAME:FEDERAL TAX DEVELOPMENTS-SEPTEMBER 2024-OCTOBER 2025
X-WR-CALNAME:FEDERAL TAX DEVELOPMENTS-SEPTEMBER 2024-OCTOBER 2025
BEGIN:VTIMEZONE
TZID:America/New_York
BEGIN:DAYLIGHT
DTSTART:20250309T010000
TZOFFSETFROM:-0500
TZOFFSETTO:-0400
END:DAYLIGHT
BEGIN:STANDARD
DTSTART:20251102T010000
TZOFFSETFROM:-0400
TZOFFSETTO:-0500
END:STANDARD
BEGIN:DAYLIGHT
DTSTART:20260308T010000
TZOFFSETFROM:-0500
TZOFFSETTO:-0400
END:DAYLIGHT
END:VTIMEZONE
BEGIN:VTIMEZONE
TZID:UTC
BEGIN:STANDARD
DTSTART:20250727T105851
TZOFFSETFROM:+0000
TZOFFSETTO:+0000
END:STANDARD
END:VTIMEZONE
BEGIN:VEVENT
UID:69e9fb6b0a001
DTSTAMP:20260423T105851Z
SUMMARY:FEDERAL TAX DEVELOPMENTS-SEPTEMBER 2024-OCTOBER 2025
LOCATION: 
URL:https://macpa.org/catalog/events/20957565-federal-tax-developments-sept
 ember-2024-october-2025-2025-21-11
DTSTART;TZID=America/New_York:20251121T080000
DTEND;TZID=America/New_York:20251121T100000
END:VEVENT
END:VCALENDAR