BEGIN:VCALENDAR
VERSION:2.0
PRODID:spatie/icalendar-generator
NAME:\"Best of\" 2025 Employee Benefit Plan Audit Conference (Int/Adv)
X-WR-CALNAME:\"Best of\" 2025 Employee Benefit Plan Audit Conference (Int/A
 dv)
BEGIN:VTIMEZONE
TZID:America/New_York
BEGIN:DAYLIGHT
DTSTART:20250309T010000
TZOFFSETFROM:-0500
TZOFFSETTO:-0400
END:DAYLIGHT
BEGIN:STANDARD
DTSTART:20251102T010000
TZOFFSETFROM:-0400
TZOFFSETTO:-0500
END:STANDARD
BEGIN:DAYLIGHT
DTSTART:20260308T010000
TZOFFSETFROM:-0500
TZOFFSETTO:-0400
END:DAYLIGHT
END:VTIMEZONE
BEGIN:VTIMEZONE
TZID:UTC
BEGIN:STANDARD
DTSTART:20250727T163156
TZOFFSETFROM:+0000
TZOFFSETTO:+0000
END:STANDARD
END:VTIMEZONE
BEGIN:VEVENT
UID:69ea497c48553
DTSTAMP:20260423T163156Z
SUMMARY:\"Best of\" 2025 Employee Benefit Plan Audit Conference (Int/Adv)
LOCATION: 
URL:https://macpa.org/catalog/events/20953815-best-of-2025-employee-benefit
 -plan-audit-conference-intadv-2025-19-09
DTSTART;TZID=America/New_York:20250919T083000
DTEND;TZID=America/New_York:20250919T123500
END:VEVENT
END:VCALENDAR