BEGIN:VCALENDAR
VERSION:2.0
PRODID:spatie/icalendar-generator
NAME:Fair Labor Standards Act - Are You Calculating Overtime Correctly?
X-WR-CALNAME:Fair Labor Standards Act - Are You Calculating Overtime Correc
 tly?
BEGIN:VTIMEZONE
TZID:America/New_York
BEGIN:STANDARD
DTSTART:20241103T010000
TZOFFSETFROM:-0400
TZOFFSETTO:-0500
END:STANDARD
BEGIN:DAYLIGHT
DTSTART:20250309T010000
TZOFFSETFROM:-0500
TZOFFSETTO:-0400
END:DAYLIGHT
BEGIN:STANDARD
DTSTART:20251102T010000
TZOFFSETFROM:-0400
TZOFFSETTO:-0500
END:STANDARD
END:VTIMEZONE
BEGIN:VTIMEZONE
TZID:UTC
BEGIN:STANDARD
DTSTART:20250727T163259
TZOFFSETFROM:+0000
TZOFFSETTO:+0000
END:STANDARD
END:VTIMEZONE
BEGIN:VEVENT
UID:69ea49bb35d2c
DTSTAMP:20260423T163259Z
SUMMARY:Fair Labor Standards Act - Are You Calculating Overtime Correctly?
LOCATION: 
URL:https://macpa.org/catalog/events/20940014-fair-labor-standards-act-are-
 you-calculating-overtime-correctly-2025-17-06
DTSTART;TZID=America/New_York:20250617T080000
DTEND;TZID=America/New_York:20250617T092000
END:VEVENT
END:VCALENDAR