BEGIN:VCALENDAR
VERSION:2.0
PRODID:spatie/icalendar-generator
NAME:How to Build an Indirect Rate for Nonprofits Under the Uniform Guidanc
 e
X-WR-CALNAME:How to Build an Indirect Rate for Nonprofits Under the Uniform
  Guidance
BEGIN:VTIMEZONE
TZID:America/New_York
BEGIN:STANDARD
DTSTART:20241103T010000
TZOFFSETFROM:-0400
TZOFFSETTO:-0500
END:STANDARD
BEGIN:DAYLIGHT
DTSTART:20250309T010000
TZOFFSETFROM:-0500
TZOFFSETTO:-0400
END:DAYLIGHT
BEGIN:STANDARD
DTSTART:20251102T010000
TZOFFSETFROM:-0400
TZOFFSETTO:-0500
END:STANDARD
END:VTIMEZONE
BEGIN:VTIMEZONE
TZID:UTC
BEGIN:STANDARD
DTSTART:20250727T164109
TZOFFSETFROM:+0000
TZOFFSETTO:+0000
END:STANDARD
END:VTIMEZONE
BEGIN:VEVENT
UID:69ea4ba58173b
DTSTAMP:20260423T164109Z
SUMMARY:How to Build an Indirect Rate for Nonprofits Under the Uniform Guid
 ance
LOCATION: 
URL:https://macpa.org/catalog/events/20940002-how-to-build-an-indirect-rate
 -for-nonprofits-under-the-uniform-guidance-2025-16-06
DTSTART;TZID=America/New_York:20250616T151000
DTEND;TZID=America/New_York:20250616T163000
END:VEVENT
END:VCALENDAR