BEGIN:VCALENDAR
VERSION:2.0
PRODID:spatie/icalendar-generator
NAME:FASB Update and Lease Modifications
X-WR-CALNAME:FASB Update and Lease Modifications
BEGIN:VTIMEZONE
TZID:America/New_York
BEGIN:STANDARD
DTSTART:20241103T010000
TZOFFSETFROM:-0400
TZOFFSETTO:-0500
END:STANDARD
BEGIN:DAYLIGHT
DTSTART:20250309T010000
TZOFFSETFROM:-0500
TZOFFSETTO:-0400
END:DAYLIGHT
BEGIN:STANDARD
DTSTART:20251102T010000
TZOFFSETFROM:-0400
TZOFFSETTO:-0500
END:STANDARD
END:VTIMEZONE
BEGIN:VTIMEZONE
TZID:UTC
BEGIN:STANDARD
DTSTART:20250727T162148
TZOFFSETFROM:+0000
TZOFFSETTO:+0000
END:STANDARD
END:VTIMEZONE
BEGIN:VEVENT
UID:69ea471c8b21e
DTSTAMP:20260423T162148Z
SUMMARY:FASB Update and Lease Modifications
LOCATION: 
URL:https://macpa.org/catalog/events/20938495-fasb-update-and-lease-modific
 ations-2025-16-06
DTSTART;TZID=America/New_York:20250616T123500
DTEND;TZID=America/New_York:20250616T135000
END:VEVENT
END:VCALENDAR