BEGIN:VCALENDAR
VERSION:2.0
PRODID:spatie/icalendar-generator
NAME:Cybersecurity Governance: Addressing Top Risks and Strategies
X-WR-CALNAME:Cybersecurity Governance: Addressing Top Risks and Strategies
BEGIN:VTIMEZONE
TZID:America/New_York
BEGIN:STANDARD
DTSTART:20241103T010000
TZOFFSETFROM:-0400
TZOFFSETTO:-0500
END:STANDARD
BEGIN:DAYLIGHT
DTSTART:20250309T010000
TZOFFSETFROM:-0500
TZOFFSETTO:-0400
END:DAYLIGHT
BEGIN:STANDARD
DTSTART:20251102T010000
TZOFFSETFROM:-0400
TZOFFSETTO:-0500
END:STANDARD
END:VTIMEZONE
BEGIN:VTIMEZONE
TZID:UTC
BEGIN:STANDARD
DTSTART:20250727T163436
TZOFFSETFROM:+0000
TZOFFSETTO:+0000
END:STANDARD
END:VTIMEZONE
BEGIN:VEVENT
UID:69ea4a1c727cc
DTSTAMP:20260423T163436Z
SUMMARY:Cybersecurity Governance: Addressing Top Risks and Strategies
LOCATION: 
URL:https://macpa.org/catalog/events/20938431-cybersecurity-governance-addr
 essing-top-risks-and-strategies-2025-16-06
DTSTART;TZID=America/New_York:20250616T090500
DTEND;TZID=America/New_York:20250616T100500
END:VEVENT
END:VCALENDAR