BEGIN:VCALENDAR
VERSION:2.0
PRODID:spatie/icalendar-generator
NAME:Voices of Impact\, MACPA Women to Watch Awards\, and Leadership Forum 
 (Full Day Attendance)
X-WR-CALNAME:Voices of Impact\, MACPA Women to Watch Awards\, and Leadershi
 p Forum (Full Day Attendance)
BEGIN:VTIMEZONE
TZID:America/New_York
BEGIN:DAYLIGHT
DTSTART:20250309T010000
TZOFFSETFROM:-0500
TZOFFSETTO:-0400
END:DAYLIGHT
BEGIN:STANDARD
DTSTART:20251102T010000
TZOFFSETFROM:-0400
TZOFFSETTO:-0500
END:STANDARD
BEGIN:DAYLIGHT
DTSTART:20260308T010000
TZOFFSETFROM:-0500
TZOFFSETTO:-0400
END:DAYLIGHT
END:VTIMEZONE
BEGIN:VTIMEZONE
TZID:UTC
BEGIN:STANDARD
DTSTART:20250727T150139
TZOFFSETFROM:+0000
TZOFFSETTO:+0000
END:STANDARD
END:VTIMEZONE
BEGIN:VEVENT
UID:69ea345326735
DTSTAMP:20260423T150139Z
SUMMARY:Voices of Impact\, MACPA Women to Watch Awards\, and Leadership For
 um (Full Day Attendance)
LOCATION:1100 Old Elkridge Landing Rd\, Linthicum Heights\, Anne Arundel Co
 unty\, Maryland 21090-1003
URL:https://macpa.org/catalog/events/20937797-voices-of-impact-macpa-women-
 to-watch-awards-and-leadership-forum-full-day-attendance-2025-17-09
DTSTART;TZID=America/New_York:20250917T110000
DTEND;TZID=America/New_York:20250917T153000
END:VEVENT
END:VCALENDAR