BEGIN:VCALENDAR
VERSION:2.0
PRODID:spatie/icalendar-generator
NAME:Monetizing Clean Energy Credits from the Inflation Reduction Act
X-WR-CALNAME:Monetizing Clean Energy Credits from the Inflation Reduction A
 ct
BEGIN:VTIMEZONE
TZID:America/New_York
BEGIN:STANDARD
DTSTART:20241103T010000
TZOFFSETFROM:-0400
TZOFFSETTO:-0500
END:STANDARD
BEGIN:DAYLIGHT
DTSTART:20250309T010000
TZOFFSETFROM:-0500
TZOFFSETTO:-0400
END:DAYLIGHT
BEGIN:STANDARD
DTSTART:20251102T010000
TZOFFSETFROM:-0400
TZOFFSETTO:-0500
END:STANDARD
END:VTIMEZONE
BEGIN:VTIMEZONE
TZID:UTC
BEGIN:STANDARD
DTSTART:20250727T163320
TZOFFSETFROM:+0000
TZOFFSETTO:+0000
END:STANDARD
END:VTIMEZONE
BEGIN:VEVENT
UID:69ea49d0bd89a
DTSTAMP:20260423T163320Z
SUMMARY:Monetizing Clean Energy Credits from the Inflation Reduction Act
LOCATION: 
URL:https://macpa.org/catalog/events/20932973-monetizing-clean-energy-credi
 ts-from-the-inflation-reduction-act-2025-18-06
DTSTART;TZID=America/New_York:20250618T080000
DTEND;TZID=America/New_York:20250618T092000
END:VEVENT
END:VCALENDAR