BEGIN:VCALENDAR
VERSION:2.0
PRODID:spatie/icalendar-generator
NAME:Common Findings (types of findings) in Single Audits
X-WR-CALNAME:Common Findings (types of findings) in Single Audits
BEGIN:VTIMEZONE
TZID:America/New_York
BEGIN:STANDARD
DTSTART:20241103T010000
TZOFFSETFROM:-0400
TZOFFSETTO:-0500
END:STANDARD
BEGIN:DAYLIGHT
DTSTART:20250309T010000
TZOFFSETFROM:-0500
TZOFFSETTO:-0400
END:DAYLIGHT
BEGIN:STANDARD
DTSTART:20251102T010000
TZOFFSETFROM:-0400
TZOFFSETTO:-0500
END:STANDARD
END:VTIMEZONE
BEGIN:VTIMEZONE
TZID:UTC
BEGIN:STANDARD
DTSTART:20250727T163157
TZOFFSETFROM:+0000
TZOFFSETTO:+0000
END:STANDARD
END:VTIMEZONE
BEGIN:VEVENT
UID:69ea497d0f182
DTSTAMP:20260423T163157Z
SUMMARY:Common Findings (types of findings) in Single Audits
LOCATION: 
URL:https://macpa.org/catalog/events/20932958-common-findings-types-of-find
 ings-in-single-audits-2025-17-06
DTSTART;TZID=America/New_York:20250617T153500
DTEND;TZID=America/New_York:20250617T165500
END:VEVENT
END:VCALENDAR