BEGIN:VCALENDAR
VERSION:2.0
PRODID:spatie/icalendar-generator
NAME:Common Reporting Errors in Governmental Financial Statements
X-WR-CALNAME:Common Reporting Errors in Governmental Financial Statements
BEGIN:VTIMEZONE
TZID:America/New_York
BEGIN:STANDARD
DTSTART:20241103T010000
TZOFFSETFROM:-0400
TZOFFSETTO:-0500
END:STANDARD
BEGIN:DAYLIGHT
DTSTART:20250309T010000
TZOFFSETFROM:-0500
TZOFFSETTO:-0400
END:DAYLIGHT
BEGIN:STANDARD
DTSTART:20251102T010000
TZOFFSETFROM:-0400
TZOFFSETTO:-0500
END:STANDARD
END:VTIMEZONE
BEGIN:VTIMEZONE
TZID:UTC
BEGIN:STANDARD
DTSTART:20250727T163434
TZOFFSETFROM:+0000
TZOFFSETTO:+0000
END:STANDARD
END:VTIMEZONE
BEGIN:VEVENT
UID:69ea4a1a7167b
DTSTAMP:20260423T163434Z
SUMMARY:Common Reporting Errors in Governmental Financial Statements
LOCATION: 
URL:https://macpa.org/catalog/events/20932954-common-reporting-errors-in-go
 vernmental-financial-statements-2025-17-06
DTSTART;TZID=America/New_York:20250617T141000
DTEND;TZID=America/New_York:20250617T153000
END:VEVENT
END:VCALENDAR