BEGIN:VCALENDAR
VERSION:2.0
PRODID:spatie/icalendar-generator
NAME:Common Accounting/Reporting Errors for NP
X-WR-CALNAME:Common Accounting/Reporting Errors for NP
BEGIN:VTIMEZONE
TZID:America/New_York
BEGIN:STANDARD
DTSTART:20241103T010000
TZOFFSETFROM:-0400
TZOFFSETTO:-0500
END:STANDARD
BEGIN:DAYLIGHT
DTSTART:20250309T010000
TZOFFSETFROM:-0500
TZOFFSETTO:-0400
END:DAYLIGHT
BEGIN:STANDARD
DTSTART:20251102T010000
TZOFFSETFROM:-0400
TZOFFSETTO:-0500
END:STANDARD
END:VTIMEZONE
BEGIN:VTIMEZONE
TZID:UTC
BEGIN:STANDARD
DTSTART:20250727T162800
TZOFFSETFROM:+0000
TZOFFSETTO:+0000
END:STANDARD
END:VTIMEZONE
BEGIN:VEVENT
UID:69ea4890d9206
DTSTAMP:20260423T162800Z
SUMMARY:Common Accounting/Reporting Errors for NP
LOCATION: 
URL:https://macpa.org/catalog/events/20932931-common-accountingreporting-er
 rors-for-np-2025-17-06
DTSTART;TZID=America/New_York:20250617T124500
DTEND;TZID=America/New_York:20250617T140500
END:VEVENT
END:VCALENDAR