BEGIN:VCALENDAR
VERSION:2.0
PRODID:spatie/icalendar-generator
NAME:Financial Sustainability Strategies for Nonprofit Organizations and Bo
 ardroom Readiness: The Intersection of Accounting and Governance Principle
 s
X-WR-CALNAME:Financial Sustainability Strategies for Nonprofit Organization
 s and Boardroom Readiness: The Intersection of Accounting and Governance P
 rinciples
BEGIN:VTIMEZONE
TZID:America/New_York
BEGIN:STANDARD
DTSTART:20241103T010000
TZOFFSETFROM:-0400
TZOFFSETTO:-0500
END:STANDARD
BEGIN:DAYLIGHT
DTSTART:20250309T010000
TZOFFSETFROM:-0500
TZOFFSETTO:-0400
END:DAYLIGHT
BEGIN:STANDARD
DTSTART:20251102T010000
TZOFFSETFROM:-0400
TZOFFSETTO:-0500
END:STANDARD
END:VTIMEZONE
BEGIN:VTIMEZONE
TZID:UTC
BEGIN:STANDARD
DTSTART:20250727T163147
TZOFFSETFROM:+0000
TZOFFSETTO:+0000
END:STANDARD
END:VTIMEZONE
BEGIN:VEVENT
UID:69ea4973ae60b
DTSTAMP:20260423T163147Z
SUMMARY:Financial Sustainability Strategies for Nonprofit Organizations and
  Boardroom Readiness: The Intersection of Accounting and Governance Princi
 ples
LOCATION: 
URL:https://macpa.org/catalog/events/20932924-financial-sustainability-stra
 tegies-for-nonprofit-organizations-and-boardroom-readiness-the-intersectio
 n-of-accounting-and-governance-principles-2025-18-06
DTSTART;TZID=America/New_York:20250618T092500
DTEND;TZID=America/New_York:20250618T110500
END:VEVENT
END:VCALENDAR