BEGIN:VCALENDAR
VERSION:2.0
PRODID:spatie/icalendar-generator
NAME:Boardroom Readiness: The Intersection of Accounting and Governance Pri
 nciples
X-WR-CALNAME:Boardroom Readiness: The Intersection of Accounting and Govern
 ance Principles
BEGIN:VTIMEZONE
TZID:America/New_York
BEGIN:STANDARD
DTSTART:20241103T010000
TZOFFSETFROM:-0400
TZOFFSETTO:-0500
END:STANDARD
BEGIN:DAYLIGHT
DTSTART:20250309T010000
TZOFFSETFROM:-0500
TZOFFSETTO:-0400
END:DAYLIGHT
BEGIN:STANDARD
DTSTART:20251102T010000
TZOFFSETFROM:-0400
TZOFFSETTO:-0500
END:STANDARD
END:VTIMEZONE
BEGIN:VTIMEZONE
TZID:UTC
BEGIN:STANDARD
DTSTART:20250727T164214
TZOFFSETFROM:+0000
TZOFFSETTO:+0000
END:STANDARD
END:VTIMEZONE
BEGIN:VEVENT
UID:69ea4be659322
DTSTAMP:20260423T164214Z
SUMMARY:Boardroom Readiness: The Intersection of Accounting and Governance 
 Principles
LOCATION: 
URL:https://macpa.org/catalog/events/20932918-boardroom-readiness-the-inter
 section-of-accounting-and-governance-principles-2025-17-06
DTSTART;TZID=America/New_York:20250617T114000
DTEND;TZID=America/New_York:20250617T124000
END:VEVENT
END:VCALENDAR