BEGIN:VCALENDAR
VERSION:2.0
PRODID:spatie/icalendar-generator
NAME:Internal Controls Over Compliance – Understanding and Auditing Inter
 nal Controls in a Single Audit
X-WR-CALNAME:Internal Controls Over Compliance – Understanding and Auditi
 ng Internal Controls in a Single Audit
BEGIN:VTIMEZONE
TZID:America/New_York
BEGIN:STANDARD
DTSTART:20241103T010000
TZOFFSETFROM:-0400
TZOFFSETTO:-0500
END:STANDARD
BEGIN:DAYLIGHT
DTSTART:20250309T010000
TZOFFSETFROM:-0500
TZOFFSETTO:-0400
END:DAYLIGHT
BEGIN:STANDARD
DTSTART:20251102T010000
TZOFFSETFROM:-0400
TZOFFSETTO:-0500
END:STANDARD
END:VTIMEZONE
BEGIN:VTIMEZONE
TZID:UTC
BEGIN:STANDARD
DTSTART:20250727T163435
TZOFFSETFROM:+0000
TZOFFSETTO:+0000
END:STANDARD
END:VTIMEZONE
BEGIN:VEVENT
UID:69ea4a1bebdcf
DTSTAMP:20260423T163435Z
SUMMARY:Internal Controls Over Compliance – Understanding and Auditing In
 ternal Controls in a Single Audit
LOCATION: 
URL:https://macpa.org/catalog/events/20932900-internal-controls-over-compli
 ance-understanding-and-auditing-internal-controls-in-a-single-audit-2025-1
 7-06
DTSTART;TZID=America/New_York:20250617T103000
DTEND;TZID=America/New_York:20250617T113500
END:VEVENT
END:VCALENDAR