BEGIN:VCALENDAR
VERSION:2.0
PRODID:spatie/icalendar-generator
NAME:Building an IRS Tax Collection Representation Practice – The Tax Pro
 cedures You Need to Know
X-WR-CALNAME:Building an IRS Tax Collection Representation Practice – The
  Tax Procedures You Need to Know
BEGIN:VTIMEZONE
TZID:America/New_York
BEGIN:STANDARD
DTSTART:20241103T010000
TZOFFSETFROM:-0400
TZOFFSETTO:-0500
END:STANDARD
BEGIN:DAYLIGHT
DTSTART:20250309T010000
TZOFFSETFROM:-0500
TZOFFSETTO:-0400
END:DAYLIGHT
BEGIN:STANDARD
DTSTART:20251102T010000
TZOFFSETFROM:-0400
TZOFFSETTO:-0500
END:STANDARD
END:VTIMEZONE
BEGIN:VTIMEZONE
TZID:UTC
BEGIN:STANDARD
DTSTART:20250725T230354
TZOFFSETFROM:+0000
TZOFFSETTO:+0000
END:STANDARD
END:VTIMEZONE
BEGIN:VEVENT
UID:69e8025a1773d
DTSTAMP:20260421T230354Z
SUMMARY:Building an IRS Tax Collection Representation Practice – The Tax 
 Procedures You Need to Know
LOCATION: 
URL:https://macpa.org/catalog/events/20930840-building-an-irs-tax-collectio
 n-representation-practice-the-tax-procedures-you-need-to-know-2025-24-07
DTSTART;TZID=America/New_York:20250724T103000
DTEND;TZID=America/New_York:20250724T121000
END:VEVENT
END:VCALENDAR