BEGIN:VCALENDAR
VERSION:2.0
PRODID:spatie/icalendar-generator
NAME:Revolutionizing Tax Practice with Generative AI (Advancements in Tax T
 echnology)
X-WR-CALNAME:Revolutionizing Tax Practice with Generative AI (Advancements 
 in Tax Technology)
BEGIN:VTIMEZONE
TZID:America/New_York
BEGIN:STANDARD
DTSTART:20241103T010000
TZOFFSETFROM:-0400
TZOFFSETTO:-0500
END:STANDARD
BEGIN:DAYLIGHT
DTSTART:20250309T010000
TZOFFSETFROM:-0500
TZOFFSETTO:-0400
END:DAYLIGHT
BEGIN:STANDARD
DTSTART:20251102T010000
TZOFFSETFROM:-0400
TZOFFSETTO:-0500
END:STANDARD
END:VTIMEZONE
BEGIN:VTIMEZONE
TZID:UTC
BEGIN:STANDARD
DTSTART:20250725T225557
TZOFFSETFROM:+0000
TZOFFSETTO:+0000
END:STANDARD
END:VTIMEZONE
BEGIN:VEVENT
UID:69e8007d424e1
DTSTAMP:20260421T225557Z
SUMMARY:Revolutionizing Tax Practice with Generative AI (Advancements in Ta
 x Technology)
LOCATION: 
URL:https://macpa.org/catalog/events/20930810-revolutionizing-tax-practice-
 with-generative-ai-advancements-in-tax-technology-2025-24-07
DTSTART;TZID=America/New_York:20250724T083000
DTEND;TZID=America/New_York:20250724T092000
END:VEVENT
END:VCALENDAR