BEGIN:VCALENDAR
VERSION:2.0
PRODID:spatie/icalendar-generator
NAME:Ethics With A Dash of Courage
X-WR-CALNAME:Ethics With A Dash of Courage
BEGIN:VTIMEZONE
TZID:America/New_York
BEGIN:STANDARD
DTSTART:20251102T010000
TZOFFSETFROM:-0400
TZOFFSETTO:-0500
END:STANDARD
BEGIN:DAYLIGHT
DTSTART:20260308T010000
TZOFFSETFROM:-0500
TZOFFSETTO:-0400
END:DAYLIGHT
BEGIN:STANDARD
DTSTART:20261101T010000
TZOFFSETFROM:-0400
TZOFFSETTO:-0500
END:STANDARD
END:VTIMEZONE
BEGIN:VTIMEZONE
TZID:UTC
BEGIN:STANDARD
DTSTART:20250727T132953
TZOFFSETFROM:+0000
TZOFFSETTO:+0000
END:STANDARD
END:VTIMEZONE
BEGIN:VEVENT
UID:69ea1ed167789
DTSTAMP:20260423T132953Z
SUMMARY:Ethics With A Dash of Courage
LOCATION: 
URL:https://macpa.org/catalog/events/20924430-ethics-with-a-dash-of-courage
 -2026-28-05
DTSTART;TZID=America/New_York:20260528T100000
DTEND;TZID=America/New_York:20260528T120000
END:VEVENT
END:VCALENDAR