BEGIN:VCALENDAR
VERSION:2.0
PRODID:spatie/icalendar-generator
NAME:Practical Tools and Tips to Help CPAs Manage Risk (Audit & Attest Serv
 ices Focus)
X-WR-CALNAME:Practical Tools and Tips to Help CPAs Manage Risk (Audit & Att
 est Services Focus)
BEGIN:VTIMEZONE
TZID:America/New_York
BEGIN:STANDARD
DTSTART:20251102T010000
TZOFFSETFROM:-0400
TZOFFSETTO:-0500
END:STANDARD
BEGIN:DAYLIGHT
DTSTART:20260308T010000
TZOFFSETFROM:-0500
TZOFFSETTO:-0400
END:DAYLIGHT
BEGIN:STANDARD
DTSTART:20261101T010000
TZOFFSETFROM:-0400
TZOFFSETTO:-0500
END:STANDARD
END:VTIMEZONE
BEGIN:VTIMEZONE
TZID:UTC
BEGIN:STANDARD
DTSTART:20250725T094814
TZOFFSETFROM:+0000
TZOFFSETTO:+0000
END:STANDARD
END:VTIMEZONE
BEGIN:VEVENT
UID:69e747deea9d2
DTSTAMP:20260421T094814Z
SUMMARY:Practical Tools and Tips to Help CPAs Manage Risk (Audit & Attest S
 ervices Focus)
LOCATION: 
URL:https://macpa.org/catalog/events/20924419-practical-tools-and-tips-to-h
 elp-cpas-manage-risk-audit-attest-services-focus-2026-19-05
DTSTART;TZID=America/New_York:20260519T130000
DTEND;TZID=America/New_York:20260519T170000
END:VEVENT
END:VCALENDAR