BEGIN:VCALENDAR
VERSION:2.0
PRODID:spatie/icalendar-generator
NAME:Ethics: Critical Thinking\, Case Studies and Fraud
X-WR-CALNAME:Ethics: Critical Thinking\, Case Studies and Fraud
BEGIN:VTIMEZONE
TZID:America/New_York
BEGIN:STANDARD
DTSTART:20251102T010000
TZOFFSETFROM:-0400
TZOFFSETTO:-0500
END:STANDARD
BEGIN:DAYLIGHT
DTSTART:20260308T010000
TZOFFSETFROM:-0500
TZOFFSETTO:-0400
END:DAYLIGHT
BEGIN:STANDARD
DTSTART:20261101T010000
TZOFFSETFROM:-0400
TZOFFSETTO:-0500
END:STANDARD
END:VTIMEZONE
BEGIN:VTIMEZONE
TZID:UTC
BEGIN:STANDARD
DTSTART:20250727T163954
TZOFFSETFROM:+0000
TZOFFSETTO:+0000
END:STANDARD
END:VTIMEZONE
BEGIN:VEVENT
UID:69ea4b5a4d690
DTSTAMP:20260423T163954Z
SUMMARY:Ethics: Critical Thinking\, Case Studies and Fraud
LOCATION: 
URL:https://macpa.org/catalog/events/20924413-ethics-critical-thinking-case
 -studies-and-fraud-2026-18-05
DTSTART;TZID=America/New_York:20260518T130000
DTEND;TZID=America/New_York:20260518T163000
END:VEVENT
END:VCALENDAR