BEGIN:VCALENDAR
VERSION:2.0
PRODID:spatie/icalendar-generator
NAME:Auditing Financial Statements of ERISA Plans
X-WR-CALNAME:Auditing Financial Statements of ERISA Plans
BEGIN:VTIMEZONE
TZID:America/New_York
BEGIN:STANDARD
DTSTART:20251102T010000
TZOFFSETFROM:-0400
TZOFFSETTO:-0500
END:STANDARD
BEGIN:DAYLIGHT
DTSTART:20260308T010000
TZOFFSETFROM:-0500
TZOFFSETTO:-0400
END:DAYLIGHT
BEGIN:STANDARD
DTSTART:20261101T010000
TZOFFSETFROM:-0400
TZOFFSETTO:-0500
END:STANDARD
END:VTIMEZONE
BEGIN:VTIMEZONE
TZID:UTC
BEGIN:STANDARD
DTSTART:20250727T094438
TZOFFSETFROM:+0000
TZOFFSETTO:+0000
END:STANDARD
END:VTIMEZONE
BEGIN:VEVENT
UID:69e9ea0642908
DTSTAMP:20260423T094438Z
SUMMARY:Auditing Financial Statements of ERISA Plans
LOCATION: 
URL:https://macpa.org/catalog/events/20924412-auditing-financial-statements
 -of-erisa-plans-2026-15-05
DTSTART;TZID=America/New_York:20260515T130000
DTEND;TZID=America/New_York:20260515T170000
END:VEVENT
END:VCALENDAR