BEGIN:VCALENDAR
VERSION:2.0
PRODID:spatie/icalendar-generator
NAME:Documenting Your EBP Audit: What You Need to Know
X-WR-CALNAME:Documenting Your EBP Audit: What You Need to Know
BEGIN:VTIMEZONE
TZID:America/New_York
BEGIN:STANDARD
DTSTART:20251102T010000
TZOFFSETFROM:-0400
TZOFFSETTO:-0500
END:STANDARD
BEGIN:DAYLIGHT
DTSTART:20260308T010000
TZOFFSETFROM:-0500
TZOFFSETTO:-0400
END:DAYLIGHT
END:VTIMEZONE
BEGIN:VTIMEZONE
TZID:UTC
BEGIN:STANDARD
DTSTART:20250727T094736
TZOFFSETFROM:+0000
TZOFFSETTO:+0000
END:STANDARD
END:VTIMEZONE
BEGIN:VEVENT
UID:69e9eab8dd733
DTSTAMP:20260423T094736Z
SUMMARY:Documenting Your EBP Audit: What You Need to Know
LOCATION: 
URL:https://macpa.org/catalog/events/20924302-documenting-your-ebp-audit-wh
 at-you-need-to-know-2026-21-04
DTSTART;TZID=America/New_York:20260421T090000
DTEND;TZID=America/New_York:20260421T170000
END:VEVENT
END:VCALENDAR