BEGIN:VCALENDAR
VERSION:2.0
PRODID:spatie/icalendar-generator
NAME:Future-Ready Finance: Motivating the Next Workforce
X-WR-CALNAME:Future-Ready Finance: Motivating the Next Workforce
BEGIN:VTIMEZONE
TZID:America/New_York
BEGIN:STANDARD
DTSTART:20251102T010000
TZOFFSETFROM:-0400
TZOFFSETTO:-0500
END:STANDARD
BEGIN:DAYLIGHT
DTSTART:20260308T010000
TZOFFSETFROM:-0500
TZOFFSETTO:-0400
END:DAYLIGHT
END:VTIMEZONE
BEGIN:VTIMEZONE
TZID:UTC
BEGIN:STANDARD
DTSTART:20250724T085333
TZOFFSETFROM:+0000
TZOFFSETTO:+0000
END:STANDARD
END:VTIMEZONE
BEGIN:VEVENT
UID:69e5e98d1ba77
DTSTAMP:20260420T085333Z
SUMMARY:Future-Ready Finance: Motivating the Next Workforce
LOCATION: 
URL:https://macpa.org/catalog/events/20924285-future-ready-finance-motivati
 ng-the-next-workforce-2026-20-04
DTSTART;TZID=America/New_York:20260420T100000
DTEND;TZID=America/New_York:20260420T113000
END:VEVENT
END:VCALENDAR