BEGIN:VCALENDAR
VERSION:2.0
PRODID:spatie/icalendar-generator
NAME:Finance Business Partnering: A Roadmap to Strategic Influence
X-WR-CALNAME:Finance Business Partnering: A Roadmap to Strategic Influence
BEGIN:VTIMEZONE
TZID:America/New_York
BEGIN:STANDARD
DTSTART:20251102T010000
TZOFFSETFROM:-0400
TZOFFSETTO:-0500
END:STANDARD
BEGIN:DAYLIGHT
DTSTART:20260308T010000
TZOFFSETFROM:-0500
TZOFFSETTO:-0400
END:DAYLIGHT
END:VTIMEZONE
BEGIN:VTIMEZONE
TZID:UTC
BEGIN:STANDARD
DTSTART:20250726T130004
TZOFFSETFROM:+0000
TZOFFSETTO:+0000
END:STANDARD
END:VTIMEZONE
BEGIN:VEVENT
UID:69e8c6541aa72
DTSTAMP:20260422T130004Z
SUMMARY:Finance Business Partnering: A Roadmap to Strategic Influence
LOCATION: 
URL:https://macpa.org/catalog/events/20924263-finance-business-partnering-a
 -roadmap-to-strategic-influence-2026-17-04
DTSTART;TZID=America/New_York:20260417T100000
DTEND;TZID=America/New_York:20260417T110000
END:VEVENT
END:VCALENDAR