BEGIN:VCALENDAR
VERSION:2.0
PRODID:spatie/icalendar-generator
NAME:Risk Management Techniques and Tools
X-WR-CALNAME:Risk Management Techniques and Tools
BEGIN:VTIMEZONE
TZID:America/New_York
BEGIN:STANDARD
DTSTART:20251102T010000
TZOFFSETFROM:-0400
TZOFFSETTO:-0500
END:STANDARD
BEGIN:DAYLIGHT
DTSTART:20260308T010000
TZOFFSETFROM:-0500
TZOFFSETTO:-0400
END:DAYLIGHT
END:VTIMEZONE
BEGIN:VTIMEZONE
TZID:UTC
BEGIN:STANDARD
DTSTART:20250726T195600
TZOFFSETFROM:+0000
TZOFFSETTO:+0000
END:STANDARD
END:VTIMEZONE
BEGIN:VEVENT
UID:69e927d0f0aa6
DTSTAMP:20260422T195600Z
SUMMARY:Risk Management Techniques and Tools
LOCATION: 
URL:https://macpa.org/catalog/events/20924241-risk-management-techniques-an
 d-tools-2026-16-04
DTSTART;TZID=America/New_York:20260416T140000
DTEND;TZID=America/New_York:20260416T160000
END:VEVENT
END:VCALENDAR