BEGIN:VCALENDAR
VERSION:2.0
PRODID:spatie/icalendar-generator
NAME:Leading in Exponential Times
X-WR-CALNAME:Leading in Exponential Times
BEGIN:VTIMEZONE
TZID:America/New_York
BEGIN:STANDARD
DTSTART:20251102T010000
TZOFFSETFROM:-0400
TZOFFSETTO:-0500
END:STANDARD
BEGIN:DAYLIGHT
DTSTART:20260308T010000
TZOFFSETFROM:-0500
TZOFFSETTO:-0400
END:DAYLIGHT
END:VTIMEZONE
BEGIN:VTIMEZONE
TZID:UTC
BEGIN:STANDARD
DTSTART:20250727T094902
TZOFFSETFROM:+0000
TZOFFSETTO:+0000
END:STANDARD
END:VTIMEZONE
BEGIN:VEVENT
UID:69e9eb0e9129c
DTSTAMP:20260423T094902Z
SUMMARY:Leading in Exponential Times
LOCATION: 
URL:https://macpa.org/catalog/events/20924230-leading-in-exponential-times-
 2026-13-04
DTSTART;TZID=America/New_York:20260413T100000
DTEND;TZID=America/New_York:20260413T110000
END:VEVENT
END:VCALENDAR