BEGIN:VCALENDAR
VERSION:2.0
PRODID:spatie/icalendar-generator
NAME:MBAExpress: Essence of Entrepreneurship — V 2.0
X-WR-CALNAME:MBAExpress: Essence of Entrepreneurship — V 2.0
BEGIN:VTIMEZONE
TZID:America/New_York
BEGIN:STANDARD
DTSTART:20251102T010000
TZOFFSETFROM:-0400
TZOFFSETTO:-0500
END:STANDARD
BEGIN:DAYLIGHT
DTSTART:20260308T010000
TZOFFSETFROM:-0500
TZOFFSETTO:-0400
END:DAYLIGHT
END:VTIMEZONE
BEGIN:VTIMEZONE
TZID:UTC
BEGIN:STANDARD
DTSTART:20250727T125531
TZOFFSETFROM:+0000
TZOFFSETTO:+0000
END:STANDARD
END:VTIMEZONE
BEGIN:VEVENT
UID:69ea16c312a49
DTSTAMP:20260423T125531Z
SUMMARY:MBAExpress: Essence of Entrepreneurship — V 2.0
LOCATION: 
URL:https://macpa.org/catalog/events/20924210-mbaexpress-essence-of-entrepr
 eneurship-v-20-2026-10-04
DTSTART;TZID=America/New_York:20260410T130000
DTEND;TZID=America/New_York:20260410T140000
END:VEVENT
END:VCALENDAR