BEGIN:VCALENDAR
VERSION:2.0
PRODID:spatie/icalendar-generator
NAME:Performing Preparation\, Compilation and Review Engagements
X-WR-CALNAME:Performing Preparation\, Compilation and Review Engagements
BEGIN:VTIMEZONE
TZID:America/New_York
BEGIN:STANDARD
DTSTART:20251102T010000
TZOFFSETFROM:-0400
TZOFFSETTO:-0500
END:STANDARD
BEGIN:DAYLIGHT
DTSTART:20260308T010000
TZOFFSETFROM:-0500
TZOFFSETTO:-0400
END:DAYLIGHT
END:VTIMEZONE
BEGIN:VTIMEZONE
TZID:UTC
BEGIN:STANDARD
DTSTART:20250727T150210
TZOFFSETFROM:+0000
TZOFFSETTO:+0000
END:STANDARD
END:VTIMEZONE
BEGIN:VEVENT
UID:69ea347206e8d
DTSTAMP:20260423T150210Z
SUMMARY:Performing Preparation\, Compilation and Review Engagements
LOCATION: 
URL:https://macpa.org/catalog/events/20924208-performing-preparation-compil
 ation-and-review-engagements-2026-09-04
DTSTART;TZID=America/New_York:20260409T150000
DTEND;TZID=America/New_York:20260409T170000
END:VEVENT
END:VCALENDAR