BEGIN:VCALENDAR
VERSION:2.0
PRODID:spatie/icalendar-generator
NAME:Look Lead Love Learn
X-WR-CALNAME:Look Lead Love Learn
BEGIN:VTIMEZONE
TZID:America/New_York
BEGIN:STANDARD
DTSTART:20251102T010000
TZOFFSETFROM:-0400
TZOFFSETTO:-0500
END:STANDARD
BEGIN:DAYLIGHT
DTSTART:20260308T010000
TZOFFSETFROM:-0500
TZOFFSETTO:-0400
END:DAYLIGHT
END:VTIMEZONE
BEGIN:VTIMEZONE
TZID:UTC
BEGIN:STANDARD
DTSTART:20250727T133012
TZOFFSETFROM:+0000
TZOFFSETTO:+0000
END:STANDARD
END:VTIMEZONE
BEGIN:VEVENT
UID:69ea1ee451337
DTSTAMP:20260423T133012Z
SUMMARY:Look Lead Love Learn
LOCATION: 
URL:https://macpa.org/catalog/events/20924173-look-lead-love-learn-2026-07-
 04
DTSTART;TZID=America/New_York:20260407T093000
DTEND;TZID=America/New_York:20260407T110000
END:VEVENT
END:VCALENDAR