BEGIN:VCALENDAR
VERSION:2.0
PRODID:spatie/icalendar-generator
NAME:Yellow Book: Staying Compliant With Government Auditing Standards
X-WR-CALNAME:Yellow Book: Staying Compliant With Government Auditing Standa
 rds
BEGIN:VTIMEZONE
TZID:America/New_York
BEGIN:STANDARD
DTSTART:20251102T010000
TZOFFSETFROM:-0400
TZOFFSETTO:-0500
END:STANDARD
BEGIN:DAYLIGHT
DTSTART:20260308T010000
TZOFFSETFROM:-0500
TZOFFSETTO:-0400
END:DAYLIGHT
END:VTIMEZONE
BEGIN:VTIMEZONE
TZID:UTC
BEGIN:STANDARD
DTSTART:20250727T094908
TZOFFSETFROM:+0000
TZOFFSETTO:+0000
END:STANDARD
END:VTIMEZONE
BEGIN:VEVENT
UID:69e9eb14d727b
DTSTAMP:20260423T094908Z
SUMMARY:Yellow Book: Staying Compliant With Government Auditing Standards
LOCATION: 
URL:https://macpa.org/catalog/events/20924135-yellow-book-staying-compliant
 -with-government-auditing-standards-2026-30-03
DTSTART;TZID=America/New_York:20260330T090000
DTEND;TZID=America/New_York:20260330T170000
END:VEVENT
END:VCALENDAR