BEGIN:VCALENDAR
VERSION:2.0
PRODID:spatie/icalendar-generator
NAME:Contract Accounting\, Lease Accounting\, and their Impact on Construct
 ion Contractors
X-WR-CALNAME:Contract Accounting\, Lease Accounting\, and their Impact on C
 onstruction Contractors
BEGIN:VTIMEZONE
TZID:America/New_York
BEGIN:STANDARD
DTSTART:20251102T010000
TZOFFSETFROM:-0400
TZOFFSETTO:-0500
END:STANDARD
BEGIN:DAYLIGHT
DTSTART:20260308T010000
TZOFFSETFROM:-0500
TZOFFSETTO:-0400
END:DAYLIGHT
END:VTIMEZONE
BEGIN:VTIMEZONE
TZID:UTC
BEGIN:STANDARD
DTSTART:20250725T074735
TZOFFSETFROM:+0000
TZOFFSETTO:+0000
END:STANDARD
END:VTIMEZONE
BEGIN:VEVENT
UID:69e72b976ea87
DTSTAMP:20260421T074735Z
SUMMARY:Contract Accounting\, Lease Accounting\, and their Impact on Constr
 uction Contractors
LOCATION: 
URL:https://macpa.org/catalog/events/20924134-contract-accounting-lease-acc
 ounting-and-their-impact-on-construction-contractors-2026-27-03
DTSTART;TZID=America/New_York:20260327T150000
DTEND;TZID=America/New_York:20260327T163000
END:VEVENT
END:VCALENDAR