BEGIN:VCALENDAR
VERSION:2.0
PRODID:spatie/icalendar-generator
NAME:Leases: Mastering the New FASB Requirements
X-WR-CALNAME:Leases: Mastering the New FASB Requirements
BEGIN:VTIMEZONE
TZID:America/New_York
BEGIN:STANDARD
DTSTART:20251102T010000
TZOFFSETFROM:-0400
TZOFFSETTO:-0500
END:STANDARD
BEGIN:DAYLIGHT
DTSTART:20260308T010000
TZOFFSETFROM:-0500
TZOFFSETTO:-0400
END:DAYLIGHT
END:VTIMEZONE
BEGIN:VTIMEZONE
TZID:UTC
BEGIN:STANDARD
DTSTART:20250727T094817
TZOFFSETFROM:+0000
TZOFFSETTO:+0000
END:STANDARD
END:VTIMEZONE
BEGIN:VEVENT
UID:69e9eae1b5167
DTSTAMP:20260423T094817Z
SUMMARY:Leases: Mastering the New FASB Requirements
LOCATION: 
URL:https://macpa.org/catalog/events/20924109-leases-mastering-the-new-fasb
 -requirements-2026-17-03
DTSTART;TZID=America/New_York:20260317T090000
DTEND;TZID=America/New_York:20260317T170000
END:VEVENT
END:VCALENDAR