BEGIN:VCALENDAR
VERSION:2.0
PRODID:spatie/icalendar-generator
NAME:Construction Contractors: Non-Revenue and Non-Lease Accounting Conside
 rations
X-WR-CALNAME:Construction Contractors: Non-Revenue and Non-Lease Accounting
  Considerations
BEGIN:VTIMEZONE
TZID:America/New_York
BEGIN:STANDARD
DTSTART:20251102T010000
TZOFFSETFROM:-0400
TZOFFSETTO:-0500
END:STANDARD
BEGIN:DAYLIGHT
DTSTART:20260308T010000
TZOFFSETFROM:-0500
TZOFFSETTO:-0400
END:DAYLIGHT
END:VTIMEZONE
BEGIN:VTIMEZONE
TZID:UTC
BEGIN:STANDARD
DTSTART:20250726T013847
TZOFFSETFROM:+0000
TZOFFSETTO:+0000
END:STANDARD
END:VTIMEZONE
BEGIN:VEVENT
UID:69e826a7c8607
DTSTAMP:20260422T013847Z
SUMMARY:Construction Contractors: Non-Revenue and Non-Lease Accounting Cons
 iderations
LOCATION: 
URL:https://macpa.org/catalog/events/20923690-construction-contractors-non-
 revenue-and-non-lease-accounting-considerations-2026-09-01
DTSTART;TZID=America/New_York:20260109T090000
DTEND;TZID=America/New_York:20260109T133000
END:VEVENT
END:VCALENDAR