BEGIN:VCALENDAR
VERSION:2.0
PRODID:spatie/icalendar-generator
NAME:Pass-Through and Corporate Annual Tax Update
X-WR-CALNAME:Pass-Through and Corporate Annual Tax Update
BEGIN:VTIMEZONE
TZID:America/New_York
BEGIN:DAYLIGHT
DTSTART:20250309T010000
TZOFFSETFROM:-0500
TZOFFSETTO:-0400
END:DAYLIGHT
BEGIN:STANDARD
DTSTART:20251102T010000
TZOFFSETFROM:-0400
TZOFFSETTO:-0500
END:STANDARD
BEGIN:DAYLIGHT
DTSTART:20260308T010000
TZOFFSETFROM:-0500
TZOFFSETTO:-0400
END:DAYLIGHT
END:VTIMEZONE
BEGIN:VTIMEZONE
TZID:UTC
BEGIN:STANDARD
DTSTART:20250727T221541
TZOFFSETFROM:+0000
TZOFFSETTO:+0000
END:STANDARD
END:VTIMEZONE
BEGIN:VEVENT
UID:69ea9a0d02f8d
DTSTAMP:20260423T221541Z
SUMMARY:Pass-Through and Corporate Annual Tax Update
LOCATION: 
URL:https://macpa.org/catalog/events/20923411-pass-through-and-corporate-an
 nual-tax-update-2025-02-12
DTSTART;TZID=America/New_York:20251202T130000
DTEND;TZID=America/New_York:20251202T170000
END:VEVENT
END:VCALENDAR