BEGIN:VCALENDAR
VERSION:2.0
PRODID:spatie/icalendar-generator
NAME:Reviewing Individual Tax Returns: What Are You Missing?
X-WR-CALNAME:Reviewing Individual Tax Returns: What Are You Missing?
BEGIN:VTIMEZONE
TZID:America/New_York
BEGIN:DAYLIGHT
DTSTART:20250309T010000
TZOFFSETFROM:-0500
TZOFFSETTO:-0400
END:DAYLIGHT
BEGIN:STANDARD
DTSTART:20251102T010000
TZOFFSETFROM:-0400
TZOFFSETTO:-0500
END:STANDARD
BEGIN:DAYLIGHT
DTSTART:20260308T010000
TZOFFSETFROM:-0500
TZOFFSETTO:-0400
END:DAYLIGHT
END:VTIMEZONE
BEGIN:VTIMEZONE
TZID:UTC
BEGIN:STANDARD
DTSTART:20250725T181717
TZOFFSETFROM:+0000
TZOFFSETTO:+0000
END:STANDARD
END:VTIMEZONE
BEGIN:VEVENT
UID:69e7bf2d97e19
DTSTAMP:20260421T181717Z
SUMMARY:Reviewing Individual Tax Returns: What Are You Missing?
LOCATION: 
URL:https://macpa.org/catalog/events/20923078-reviewing-individual-tax-retu
 rns-what-are-you-missing-2025-27-10
DTSTART;TZID=America/New_York:20251027T130000
DTEND;TZID=America/New_York:20251027T170000
END:VEVENT
END:VCALENDAR