BEGIN:VCALENDAR
VERSION:2.0
PRODID:spatie/icalendar-generator
NAME:Controller Series: Technology - Must Have Excel Competencies
X-WR-CALNAME:Controller Series: Technology - Must Have Excel Competencies
BEGIN:VTIMEZONE
TZID:America/New_York
BEGIN:DAYLIGHT
DTSTART:20250309T010000
TZOFFSETFROM:-0500
TZOFFSETTO:-0400
END:DAYLIGHT
BEGIN:STANDARD
DTSTART:20251102T010000
TZOFFSETFROM:-0400
TZOFFSETTO:-0500
END:STANDARD
END:VTIMEZONE
BEGIN:VTIMEZONE
TZID:UTC
BEGIN:STANDARD
DTSTART:20250724T044450
TZOFFSETFROM:+0000
TZOFFSETTO:+0000
END:STANDARD
END:VTIMEZONE
BEGIN:VEVENT
UID:69e5af42e91f4
DTSTAMP:20260420T044450Z
SUMMARY:Controller Series: Technology - Must Have Excel Competencies
LOCATION: 
URL:https://macpa.org/catalog/events/20922668-controller-series-technology-
 must-have-excel-competencies-2025-28-08
DTSTART;TZID=America/New_York:20250828T130000
DTEND;TZID=America/New_York:20250828T140000
END:VEVENT
END:VCALENDAR