BEGIN:VCALENDAR
VERSION:2.0
PRODID:spatie/icalendar-generator
NAME:Ethics: Critical Thinking\, Case Studies and Fraud
X-WR-CALNAME:Ethics: Critical Thinking\, Case Studies and Fraud
BEGIN:VTIMEZONE
TZID:America/New_York
BEGIN:DAYLIGHT
DTSTART:20250309T010000
TZOFFSETFROM:-0500
TZOFFSETTO:-0400
END:DAYLIGHT
BEGIN:STANDARD
DTSTART:20251102T010000
TZOFFSETFROM:-0400
TZOFFSETTO:-0500
END:STANDARD
END:VTIMEZONE
BEGIN:VTIMEZONE
TZID:UTC
BEGIN:STANDARD
DTSTART:20250729T222453
TZOFFSETFROM:+0000
TZOFFSETTO:+0000
END:STANDARD
END:VTIMEZONE
BEGIN:VEVENT
UID:69ed3f3573e31
DTSTAMP:20260425T222453Z
SUMMARY:Ethics: Critical Thinking\, Case Studies and Fraud
LOCATION: 
URL:https://macpa.org/catalog/events/20922531-ethics-critical-thinking-case
 -studies-and-fraud-2025-11-08
DTSTART;TZID=America/New_York:20250811T130000
DTEND;TZID=America/New_York:20250811T164000
END:VEVENT
END:VCALENDAR