BEGIN:VCALENDAR
VERSION:2.0
PRODID:spatie/icalendar-generator
NAME:Don Farmer’s 2025 Federal Tax Update
X-WR-CALNAME:Don Farmer’s 2025 Federal Tax Update
BEGIN:VTIMEZONE
TZID:America/New_York
BEGIN:STANDARD
DTSTART:20251102T010000
TZOFFSETFROM:-0400
TZOFFSETTO:-0500
END:STANDARD
BEGIN:DAYLIGHT
DTSTART:20260308T010000
TZOFFSETFROM:-0500
TZOFFSETTO:-0400
END:DAYLIGHT
END:VTIMEZONE
BEGIN:VTIMEZONE
TZID:UTC
BEGIN:STANDARD
DTSTART:20250726T032049
TZOFFSETFROM:+0000
TZOFFSETTO:+0000
END:STANDARD
END:VTIMEZONE
BEGIN:VEVENT
UID:69e83e91481cc
DTSTAMP:20260422T032049Z
SUMMARY:Don Farmer’s 2025 Federal Tax Update
LOCATION: 
URL:https://macpa.org/catalog/events/20896014-don-farmers-2025-federal-tax-
 update-2025-18-12
DTSTART;TZID=America/New_York:20251218T080000
DTEND;TZID=America/New_York:20251218T154500
END:VEVENT
END:VCALENDAR