BEGIN:VCALENDAR
VERSION:2.0
PRODID:spatie/icalendar-generator
NAME:2024 Revision to Government Auditing Standards Impact
X-WR-CALNAME:2024 Revision to Government Auditing Standards Impact
BEGIN:VTIMEZONE
TZID:America/New_York
BEGIN:DAYLIGHT
DTSTART:20250309T010000
TZOFFSETFROM:-0500
TZOFFSETTO:-0400
END:DAYLIGHT
BEGIN:STANDARD
DTSTART:20251102T010000
TZOFFSETFROM:-0400
TZOFFSETTO:-0500
END:STANDARD
END:VTIMEZONE
BEGIN:VTIMEZONE
TZID:UTC
BEGIN:STANDARD
DTSTART:20250725T175429
TZOFFSETFROM:+0000
TZOFFSETTO:+0000
END:STANDARD
END:VTIMEZONE
BEGIN:VEVENT
UID:69e7b9d59d0b2
DTSTAMP:20260421T175429Z
SUMMARY:2024 Revision to Government Auditing Standards Impact
LOCATION: 
URL:https://macpa.org/catalog/events/20892745-2024-revision-to-government-a
 uditing-standards-impact-2025-01-08
DTSTART;TZID=America/New_York:20250801T140000
DTEND;TZID=America/New_York:20250801T180000
END:VEVENT
END:VCALENDAR