BEGIN:VCALENDAR
VERSION:2.0
PRODID:spatie/icalendar-generator
NAME:The CFO Who Went to Prison
X-WR-CALNAME:The CFO Who Went to Prison
BEGIN:VTIMEZONE
TZID:America/New_York
BEGIN:STANDARD
DTSTART:20241103T010000
TZOFFSETFROM:-0400
TZOFFSETTO:-0500
END:STANDARD
BEGIN:DAYLIGHT
DTSTART:20250309T010000
TZOFFSETFROM:-0500
TZOFFSETTO:-0400
END:DAYLIGHT
BEGIN:STANDARD
DTSTART:20251102T010000
TZOFFSETFROM:-0400
TZOFFSETTO:-0500
END:STANDARD
END:VTIMEZONE
BEGIN:VTIMEZONE
TZID:UTC
BEGIN:STANDARD
DTSTART:20250728T153343
TZOFFSETFROM:+0000
TZOFFSETTO:+0000
END:STANDARD
END:VTIMEZONE
BEGIN:VEVENT
UID:69eb8d57ed30c
DTSTAMP:20260424T153343Z
SUMMARY:The CFO Who Went to Prison
LOCATION: 
URL:https://macpa.org/catalog/events/20892449-the-cfo-who-went-to-prison-20
 25-30-07
DTSTART;TZID=America/New_York:20250730T103000
DTEND;TZID=America/New_York:20250730T123000
END:VEVENT
END:VCALENDAR