BEGIN:VCALENDAR
VERSION:2.0
PRODID:spatie/icalendar-generator
NAME:How to Start a CFO Service
X-WR-CALNAME:How to Start a CFO Service
BEGIN:VTIMEZONE
TZID:America/New_York
BEGIN:STANDARD
DTSTART:20241103T010000
TZOFFSETFROM:-0400
TZOFFSETTO:-0500
END:STANDARD
BEGIN:DAYLIGHT
DTSTART:20250309T010000
TZOFFSETFROM:-0500
TZOFFSETTO:-0400
END:DAYLIGHT
BEGIN:STANDARD
DTSTART:20251102T010000
TZOFFSETFROM:-0400
TZOFFSETTO:-0500
END:STANDARD
END:VTIMEZONE
BEGIN:VTIMEZONE
TZID:UTC
BEGIN:STANDARD
DTSTART:20250726T085715
TZOFFSETFROM:+0000
TZOFFSETTO:+0000
END:STANDARD
END:VTIMEZONE
BEGIN:VEVENT
UID:69e88d6bbb33a
DTSTAMP:20260422T085715Z
SUMMARY:How to Start a CFO Service
LOCATION: 
URL:https://macpa.org/catalog/events/20892227-how-to-start-a-cfo-service-20
 25-29-07
DTSTART;TZID=America/New_York:20250729T093000
DTEND;TZID=America/New_York:20250729T103000
END:VEVENT
END:VCALENDAR