BEGIN:VCALENDAR
VERSION:2.0
PRODID:spatie/icalendar-generator
NAME:You Don't Know What You Don't Know About Microsoft Excel
X-WR-CALNAME:You Don't Know What You Don't Know About Microsoft Excel
BEGIN:VTIMEZONE
TZID:America/New_York
BEGIN:STANDARD
DTSTART:20241103T010000
TZOFFSETFROM:-0400
TZOFFSETTO:-0500
END:STANDARD
BEGIN:DAYLIGHT
DTSTART:20250309T010000
TZOFFSETFROM:-0500
TZOFFSETTO:-0400
END:DAYLIGHT
BEGIN:STANDARD
DTSTART:20251102T010000
TZOFFSETFROM:-0400
TZOFFSETTO:-0500
END:STANDARD
END:VTIMEZONE
BEGIN:VTIMEZONE
TZID:UTC
BEGIN:STANDARD
DTSTART:20250725T215722
TZOFFSETFROM:+0000
TZOFFSETTO:+0000
END:STANDARD
END:VTIMEZONE
BEGIN:VEVENT
UID:69e7f2c2cc2be
DTSTAMP:20260421T215722Z
SUMMARY:You Don't Know What You Don't Know About Microsoft Excel
LOCATION: 
URL:https://macpa.org/catalog/events/20892220-you-dont-know-what-you-dont-k
 now-about-microsoft-excel-2025-29-07
DTSTART;TZID=America/New_York:20250729T090000
DTEND;TZID=America/New_York:20250729T170000
END:VEVENT
END:VCALENDAR