BEGIN:VCALENDAR
VERSION:2.0
PRODID:spatie/icalendar-generator
NAME:Defining Where and Why Internal Controls are Needed
X-WR-CALNAME:Defining Where and Why Internal Controls are Needed
BEGIN:VTIMEZONE
TZID:America/New_York
BEGIN:STANDARD
DTSTART:20241103T010000
TZOFFSETFROM:-0400
TZOFFSETTO:-0500
END:STANDARD
BEGIN:DAYLIGHT
DTSTART:20250309T010000
TZOFFSETFROM:-0500
TZOFFSETTO:-0400
END:DAYLIGHT
BEGIN:STANDARD
DTSTART:20251102T010000
TZOFFSETFROM:-0400
TZOFFSETTO:-0500
END:STANDARD
END:VTIMEZONE
BEGIN:VTIMEZONE
TZID:UTC
BEGIN:STANDARD
DTSTART:20250728T065347
TZOFFSETFROM:+0000
TZOFFSETTO:+0000
END:STANDARD
END:VTIMEZONE
BEGIN:VEVENT
UID:69eb137b426b8
DTSTAMP:20260424T065347Z
SUMMARY:Defining Where and Why Internal Controls are Needed
LOCATION: 
URL:https://macpa.org/catalog/events/20892085-defining-where-and-why-intern
 al-controls-are-needed-2025-28-07
DTSTART;TZID=America/New_York:20250728T100000
DTEND;TZID=America/New_York:20250728T120000
END:VEVENT
END:VCALENDAR