BEGIN:VCALENDAR
VERSION:2.0
PRODID:spatie/icalendar-generator
NAME:The 10 Must Know Excel Features
X-WR-CALNAME:The 10 Must Know Excel Features
BEGIN:VTIMEZONE
TZID:America/New_York
BEGIN:DAYLIGHT
DTSTART:20250309T010000
TZOFFSETFROM:-0500
TZOFFSETTO:-0400
END:DAYLIGHT
BEGIN:STANDARD
DTSTART:20251102T010000
TZOFFSETFROM:-0400
TZOFFSETTO:-0500
END:STANDARD
END:VTIMEZONE
BEGIN:VTIMEZONE
TZID:UTC
BEGIN:STANDARD
DTSTART:20250726T054034
TZOFFSETFROM:+0000
TZOFFSETTO:+0000
END:STANDARD
END:VTIMEZONE
BEGIN:VEVENT
UID:69e85f5212076
DTSTAMP:20260422T054034Z
SUMMARY:The 10 Must Know Excel Features
LOCATION: 
URL:https://macpa.org/catalog/events/20890377-the-10-must-know-excel-featur
 es-2025-28-08
DTSTART;TZID=America/New_York:20250828T103000
DTEND;TZID=America/New_York:20250828T123000
END:VEVENT
END:VCALENDAR