BEGIN:VCALENDAR
VERSION:2.0
PRODID:spatie/icalendar-generator
NAME:Retaining Talent in a Competitive Marketplace
X-WR-CALNAME:Retaining Talent in a Competitive Marketplace
BEGIN:VTIMEZONE
TZID:America/New_York
BEGIN:DAYLIGHT
DTSTART:20250309T010000
TZOFFSETFROM:-0500
TZOFFSETTO:-0400
END:DAYLIGHT
BEGIN:STANDARD
DTSTART:20251102T010000
TZOFFSETFROM:-0400
TZOFFSETTO:-0500
END:STANDARD
END:VTIMEZONE
BEGIN:VTIMEZONE
TZID:UTC
BEGIN:STANDARD
DTSTART:20250724T175513
TZOFFSETFROM:+0000
TZOFFSETTO:+0000
END:STANDARD
END:VTIMEZONE
BEGIN:VEVENT
UID:69e66881a767c
DTSTAMP:20260420T175513Z
SUMMARY:Retaining Talent in a Competitive Marketplace
LOCATION: 
URL:https://macpa.org/catalog/events/20889869-retaining-talent-in-a-competi
 tive-marketplace-2025-26-08
DTSTART;TZID=America/New_York:20250826T130000
DTEND;TZID=America/New_York:20250826T170000
END:VEVENT
END:VCALENDAR