BEGIN:VCALENDAR
VERSION:2.0
PRODID:spatie/icalendar-generator
NAME:Risk Assessment Under SAS No. 145: The Key to Audit Quality?
X-WR-CALNAME:Risk Assessment Under SAS No. 145: The Key to Audit Quality?
BEGIN:VTIMEZONE
TZID:America/New_York
BEGIN:DAYLIGHT
DTSTART:20250309T010000
TZOFFSETFROM:-0500
TZOFFSETTO:-0400
END:DAYLIGHT
BEGIN:STANDARD
DTSTART:20251102T010000
TZOFFSETFROM:-0400
TZOFFSETTO:-0500
END:STANDARD
END:VTIMEZONE
BEGIN:VTIMEZONE
TZID:UTC
BEGIN:STANDARD
DTSTART:20250726T124813
TZOFFSETFROM:+0000
TZOFFSETTO:+0000
END:STANDARD
END:VTIMEZONE
BEGIN:VEVENT
UID:69e8c38d3b5e7
DTSTAMP:20260422T124813Z
SUMMARY:Risk Assessment Under SAS No. 145: The Key to Audit Quality?
LOCATION: 
URL:https://macpa.org/catalog/events/20889783-risk-assessment-under-sas-no-
 145-the-key-to-audit-quality-2025-26-08
DTSTART;TZID=America/New_York:20250826T103000
DTEND;TZID=America/New_York:20250826T123000
END:VEVENT
END:VCALENDAR