BEGIN:VCALENDAR
VERSION:2.0
PRODID:spatie/icalendar-generator
NAME:Understanding the New Forms K-2 and K-3
X-WR-CALNAME:Understanding the New Forms K-2 and K-3
BEGIN:VTIMEZONE
TZID:America/New_York
BEGIN:DAYLIGHT
DTSTART:20250309T010000
TZOFFSETFROM:-0500
TZOFFSETTO:-0400
END:DAYLIGHT
BEGIN:STANDARD
DTSTART:20251102T010000
TZOFFSETFROM:-0400
TZOFFSETTO:-0500
END:STANDARD
END:VTIMEZONE
BEGIN:VTIMEZONE
TZID:UTC
BEGIN:STANDARD
DTSTART:20250728T074739
TZOFFSETFROM:+0000
TZOFFSETTO:+0000
END:STANDARD
END:VTIMEZONE
BEGIN:VEVENT
UID:69eb201b9ceac
DTSTAMP:20260424T074739Z
SUMMARY:Understanding the New Forms K-2 and K-3
LOCATION: 
URL:https://macpa.org/catalog/events/20887783-understanding-the-new-forms-k
 -2-and-k-3-2025-15-08
DTSTART;TZID=America/New_York:20250815T120000
DTEND;TZID=America/New_York:20250815T140000
END:VEVENT
END:VCALENDAR