BEGIN:VCALENDAR
VERSION:2.0
PRODID:spatie/icalendar-generator
NAME:Power BI - Bringing It All Together for Data Analysis
X-WR-CALNAME:Power BI - Bringing It All Together for Data Analysis
BEGIN:VTIMEZONE
TZID:America/New_York
BEGIN:DAYLIGHT
DTSTART:20250309T010000
TZOFFSETFROM:-0500
TZOFFSETTO:-0400
END:DAYLIGHT
BEGIN:STANDARD
DTSTART:20251102T010000
TZOFFSETFROM:-0400
TZOFFSETTO:-0500
END:STANDARD
END:VTIMEZONE
BEGIN:VTIMEZONE
TZID:UTC
BEGIN:STANDARD
DTSTART:20250729T183024
TZOFFSETFROM:+0000
TZOFFSETTO:+0000
END:STANDARD
END:VTIMEZONE
BEGIN:VEVENT
UID:69ed0840a7e15
DTSTAMP:20260425T183024Z
SUMMARY:Power BI - Bringing It All Together for Data Analysis
LOCATION: 
URL:https://macpa.org/catalog/events/20887507-power-bi-bringing-it-all-toge
 ther-for-data-analysis-2025-14-08
DTSTART;TZID=America/New_York:20250814T130000
DTEND;TZID=America/New_York:20250814T150000
END:VEVENT
END:VCALENDAR