BEGIN:VCALENDAR
VERSION:2.0
PRODID:spatie/icalendar-generator
NAME:Tech It to the Next Level: Slim Your Team for Max Efficiency
X-WR-CALNAME:Tech It to the Next Level: Slim Your Team for Max Efficiency
BEGIN:VTIMEZONE
TZID:America/New_York
BEGIN:DAYLIGHT
DTSTART:20250309T010000
TZOFFSETFROM:-0500
TZOFFSETTO:-0400
END:DAYLIGHT
BEGIN:STANDARD
DTSTART:20251102T010000
TZOFFSETFROM:-0400
TZOFFSETTO:-0500
END:STANDARD
END:VTIMEZONE
BEGIN:VTIMEZONE
TZID:UTC
BEGIN:STANDARD
DTSTART:20250726T121207
TZOFFSETFROM:+0000
TZOFFSETTO:+0000
END:STANDARD
END:VTIMEZONE
BEGIN:VEVENT
UID:69e8bb17073ff
DTSTAMP:20260422T121207Z
SUMMARY:Tech It to the Next Level: Slim Your Team for Max Efficiency
LOCATION: 
URL:https://macpa.org/catalog/events/20887321-tech-it-to-the-next-level-sli
 m-your-team-for-max-efficiency-2025-13-08
DTSTART;TZID=America/New_York:20250813T170000
DTEND;TZID=America/New_York:20250813T180000
END:VEVENT
END:VCALENDAR