BEGIN:VCALENDAR
VERSION:2.0
PRODID:spatie/icalendar-generator
NAME:What's Changing in A&A for Governmental Entities (2025)
X-WR-CALNAME:What's Changing in A&A for Governmental Entities (2025)
BEGIN:VTIMEZONE
TZID:America/New_York
BEGIN:DAYLIGHT
DTSTART:20250309T010000
TZOFFSETFROM:-0500
TZOFFSETTO:-0400
END:DAYLIGHT
BEGIN:STANDARD
DTSTART:20251102T010000
TZOFFSETFROM:-0400
TZOFFSETTO:-0500
END:STANDARD
END:VTIMEZONE
BEGIN:VTIMEZONE
TZID:UTC
BEGIN:STANDARD
DTSTART:20250729T151909
TZOFFSETFROM:+0000
TZOFFSETTO:+0000
END:STANDARD
END:VTIMEZONE
BEGIN:VEVENT
UID:69ecdb6d3d1eb
DTSTAMP:20260425T151909Z
SUMMARY:What's Changing in A&A for Governmental Entities (2025)
LOCATION: 
URL:https://macpa.org/catalog/events/20886763-whats-changing-in-aa-for-gove
 rnmental-entities-2025-2025-12-08
DTSTART;TZID=America/New_York:20250812T090000
DTEND;TZID=America/New_York:20250812T130000
END:VEVENT
END:VCALENDAR