BEGIN:VCALENDAR
VERSION:2.0
PRODID:spatie/icalendar-generator
NAME:Controls to Secure the Growing Digital Footprint
X-WR-CALNAME:Controls to Secure the Growing Digital Footprint
BEGIN:VTIMEZONE
TZID:America/New_York
BEGIN:DAYLIGHT
DTSTART:20250309T010000
TZOFFSETFROM:-0500
TZOFFSETTO:-0400
END:DAYLIGHT
BEGIN:STANDARD
DTSTART:20251102T010000
TZOFFSETFROM:-0400
TZOFFSETTO:-0500
END:STANDARD
END:VTIMEZONE
BEGIN:VTIMEZONE
TZID:UTC
BEGIN:STANDARD
DTSTART:20250725T024537
TZOFFSETFROM:+0000
TZOFFSETTO:+0000
END:STANDARD
END:VTIMEZONE
BEGIN:VEVENT
UID:69e6e4d1ecdc2
DTSTAMP:20260421T024537Z
SUMMARY:Controls to Secure the Growing Digital Footprint
LOCATION: 
URL:https://macpa.org/catalog/events/20885996-controls-to-secure-the-growin
 g-digital-footprint-2025-07-08
DTSTART;TZID=America/New_York:20250807T100000
DTEND;TZID=America/New_York:20250807T140000
END:VEVENT
END:VCALENDAR